BEGIN:VCALENDAR
VERSION:2.0
PRODID:Events Booking
BEGIN:VEVENT
UID:69eb768f7d4a3
SUMMARY:Oecumenische Viering
DESCRIPTION:
LOCATION:Driestedenweg 1\, 1663 BD De Weere\, Nederland
DTSTART:20261108T090000Z
DTEND:20261108T100000Z
DTSTAMP:20251126T121016Z
ORGANIZER;CN=Bonifatiusparochie:MAILTO:secretariaat@sintbonifatiusparochie.
 nl 
GEO:52.721892;4.999909
X-APPLE-STRUCTURED-LOCATION;VALUE=URI;X-ADDRESS=Driestedenweg 1\, 1663 BD D
 e Weere\, Nederland;X-APPLE-RADIUS=72;X-TITLE=Sint Lambertuskerk (De Weere
 ):52.721892;4.999909
END:VEVENT
END:VCALENDAR