BEGIN:VCALENDAR
VERSION:2.0
PRODID:Events Booking
BEGIN:VEVENT
UID:69eb6594ab46a
SUMMARY:Kerstavond
DESCRIPTION:
LOCATION:Spanbroekerweg 186\, 1715 GV Spanbroek\, Nederland
DTSTART:20261224T183000Z
DTEND:20261224T193000Z
DTSTAMP:20251126T121354Z
ORGANIZER;CN=Bonifatiusparochie:MAILTO:secretariaat@sintbonifatiusparochie.
 nl 
GEO:52.697542;4.961825
X-APPLE-STRUCTURED-LOCATION;VALUE=URI;X-ADDRESS=Spanbroekerweg 186\, 1715 G
 V Spanbroek\, Nederland;X-APPLE-RADIUS=72;X-TITLE=Sint Bonifatius (Spanbro
 ek):52.697542;4.961825
END:VEVENT
END:VCALENDAR