BEGIN:VCALENDAR
VERSION:2.0
PRODID:Events Booking
BEGIN:VEVENT
UID:69eb65d71da2a
SUMMARY:Oecumenische Viering
DESCRIPTION:
LOCATION:Radboudstraat 1\, 1718 CA Hoogwoud
DTSTART:20260920T080000Z
DTEND:20260920T090000Z
DTSTAMP:20251126T123944Z
ORGANIZER;CN=Bonifatiusparochie:MAILTO:secretariaat@sintbonifatiusparochie.
 nl 
GEO:52.717421;4.934582
X-APPLE-STRUCTURED-LOCATION;VALUE=URI;X-ADDRESS=Radboudstraat 1\, 1718 CA H
 oogwoud;X-APPLE-RADIUS=72;X-TITLE=Hervormde Kerk Hoogwoud:52.717421;4.9345
 82
END:VEVENT
END:VCALENDAR